Workbook

Sheet 正确版公示表 
A1: 2026年清城区申请住房保障家庭情况公示表（第二批）
A2: 2026年第三季度，我中心审核通过清城区住房保障申请家庭共32户（47人），其中城镇中低收入住房困难家庭20户（35人）、在城镇稳定就业的外来务工人员6户（6人）、新就业无房职工6户（6人）。原保障家庭现增加家庭成员有2户（2人）。根据《关于公布2022年度清城区住房保障对象标准及条件的通告》的规定，该批次申请家庭符合“申请人家庭人均月收入不超过3000元/月，不拥有任何形式的自有住房和建房用地，或者自有住房人均建筑面积低于15平方米等条件”。现予公示，公示期自公示之日起10天，公示期内如有异议的，请直接向清城区住房保障中心反映或拨打0763-3665532。公示期满后，对符合条件的发放租赁补贴或实物配租公租房进行保障。
A3: 城镇中低收入住房困难家庭（20户）
A4: 序号 | B4: 姓名 | C4: 身份证号 | D4: 与申请 人关系 | E4: 工作单位 | F4: 家庭住址 | G4: 保障人口 | H4: 家庭性质 | I4: 人均收入(元) | J4: 所属街镇、社区 | K4: 保障方式 | O4: 联系电话 | P4: 备注
K5: 实物配租 | N5: 租赁补贴
K6: 一房 | L6: 两房 | M6: 三房
A7: =MAX($A$4:A6)+1 -> 1 | B7: 李*清 | C7: 44180219********16 | D7: 申请人 | E7: =VLOOKUP(C:C,[1]初步公示表汇总!C7:P47,3,FALSE) -> 灵活就业 | F7: 广东省清远市清城区东城街东岗一路 | G7: 4 | H7: 残疾户 | I7: 175 | J7: 东城街青云社区 | M7: √ | O7: 1597****530 | P7: 城镇中低收入家庭
B8: 李*源 | C8: 44180220********32 | D8: 儿子 | E8: =VLOOKUP(C:C,[1]初步公示表汇总!C8:P48,3,FALSE) -> 其他 | O8: 1475****252 | P8: 城镇中低收入家庭
B9: 骆*尹 | C9: 44180219********24 | D9: 配偶 | E9: =VLOOKUP(C:C,[1]初步公示表汇总!C9:P49,3,FALSE) -> 失业 | O9: 1475****252 | P9: 城镇中低收入家庭
B10: 李*池 | C10: 44180220********19 | D10: 儿子 | E10: =VLOOKUP(C:C,[1]初步公示表汇总!C10:P50,3,FALSE) -> 学龄前儿童 | O10: 1475****252 | P10: 城镇中低收入家庭
A11: =MAX($A$4:A10)+1 -> 2 | B11: 梅*伟 | C11: 44012719********13 | D11: 申请人 | E11: =VLOOKUP(C:C,[1]初步公示表汇总!C11:P51,3,FALSE) -> 灵活就业 | F11: 清远市清城区上濠基 | G11: 1 | I11: 2600 | J11: 凤城街龙船塘社区 | K11: √ | O11: 1317****863 | P11: 城镇中低收入家庭
A12: =MAX($A$4:A11)+1 -> 3 | B12: 劳*辉 | C12: 44012719********11 | D12: 申请人 | E12: =VLOOKUP(C:C,[1]初步公示表汇总!C12:P52,3,FALSE) -> 灵活就业 | F12: 广东省清远市清城区学宫街右一巷 | G12: 1 | I12: 3000 | J12: 凤城街东门社区 | K12: √ | O12: 1860****364 | P12: 城镇中低收入家庭
A13: =MAX($A$4:A12)+1 -> 4 | B13: 李*娥 | C13: 44180219********27 | D13: 申请人 | E13: =VLOOKUP(C:C,[1]初步公示表汇总!C13:P53,3,FALSE) -> 退休 | F13: 广东省清远市清城区方伯里 | G13: 1 | I13: 1827 | J13: 凤城街后街社区 | K13: √ | O13: 1361****103 | P13: 城镇中低收入家庭
A14: =MAX($A$4:A13)+1 -> 5 | B14: 范*卿 | C14: 44180219********27 | D14: 申请人 | E14: =VLOOKUP(C:C,[1]初步公示表汇总!C14:P54,3,FALSE) -> 退休 | F14: 广东省清远市清城区朝阳花苑 | G14: 1 | I14: 1417.94 | J14: 凤城街大观社区 | K14: √ | O14: 1392****817 | P14: 城镇中低收入家庭
A15: =MAX($A$4:A14)+1 -> 6 | B15: 蔡*兰 | C15: 44022719********28 | D15: 申请人 | E15: =VLOOKUP(C:C,[1]初步公示表汇总!C15:P55,3,FALSE) -> 退休 | F15: 广东省清远市清城区下廓派出所下壕基居委会 | G15: 1 | I15: 2900 | J15: 凤城街西湖社区 | K15: √ | O15: 1922****948 | P15: 城镇中低收入家庭
A16: =MAX($A$4:A15)+1 -> 7 | B16: 谭*洪 | C16: 44022319********55 | D16: 申请人 | E16: =VLOOKUP(C:C,[1]初步公示表汇总!C16:P56,3,FALSE) -> 灵活就业 | F16: 广东省清远市清城区派出所龙船塘居委会 | G16: 1 | I16: 2070 | J16: 凤城街龙船塘社区 | N16: √ | O16: 1871****840 | P16: 城镇中低收入家庭
A17: =MAX($A$4:A16)+1 -> 8 | B17: 梁*全 | C17: 44180219********33 | D17: 申请人 | E17: =VLOOKUP(C:C,[1]初步公示表汇总!C17:P57,3,FALSE) -> 灵活就业 | F17: 广东省清远市清城区仓后街左三巷 | G17: 1 | I17: 3000 | J17: 凤城街向群社区 | N17: √ | O17: 1816****690 | P17: 城镇中低收入家庭
A18: =MAX($A$4:A17)+1 -> 9 | B18: 赖*梅 | C18: 44182619********21 | D18: 申请人 | E18: =VLOOKUP(C:C,[1]初步公示表汇总!C18:P58,3,FALSE) -> 灵活就业 | F18: 清远市清城区刘围街 | G18: 2 | I18: 1500 | J18: 凤城街向群社区 | K18: √ | O18: 1341****445 | P18: 城镇中低收入家庭
B19: 陈*毅 | C19: 44012719********3X | D19: 配偶 | E19: =VLOOKUP(C:C,[1]初步公示表汇总!C19:P59,3,FALSE) -> 灵活就业 | O19: 1735****790 | P19: 城镇中低收入家庭
A20: =MAX($A$4:A19)+1 -> 10 | B20: 曹*妍 | C20: 44180220********20 | D20: 申请人 | E20: =VLOOKUP(C:C,[1]初步公示表汇总!C20:P60,3,FALSE) -> 无 | F20: 清远市清城区下廓一街石狮小区 | G20: 2 | I20: 0 | J20: 凤城街石狮社区 | L20: √ | O20: 1337****615 | P20: 城镇中低收入家庭
B21: 曹*洲 | C21: 44180219********11 | D21: 父亲 | E21: =VLOOKUP(C:C,[1]初步公示表汇总!C21:P61,3,FALSE) -> 无 | P21: 城镇中低收入家庭
A22: =MAX($A$4:A21)+1 -> 11 | B22: 黄*明 | C22: 44180219********32 | D22: 申请人 | E22: =VLOOKUP(C:C,[1]初步公示表汇总!C22:P62,3,FALSE) -> 无 | F22: 广东省清远市清城区拉尾岗 | G22: 1 | I22: 1200 | J22: 凤城街城西社区 | K22: √ | O22: 1538****970 | P22: 城镇中低收入家庭
A23: =MAX($A$4:A22)+1 -> 12 | B23: 刘*良 | C23: 43042419********17 | D23: 申请人 | E23: =VLOOKUP(C:C,[1]初步公示表汇总!C23:P63,3,FALSE) -> 失业 | F23: 广东省清远市清城区沿江路沿江路南九座 | G23: 1 | I23: 0 | J23: 凤城街沿江社区 | K23: √ | O23: 1758****396 | P23: 城镇中低收入家庭
A24: =MAX($A$4:A23)+1 -> 13 | B24: 何*辉 | C24: 44180219********14 | D24: 申请人 | E24: =VLOOKUP(C:C,[1]初步公示表汇总!C24:P64,3,FALSE) -> 灵活就业 | F24: 广东省清远市清城石狮小区6座 | G24: 2 | H24: 特困户、残疾户 | I24: 3000 | J24: 凤城街石狮社区 | L24: √ | O24: 1322****268 1982****728 | P24: 城镇中低收入家庭
B25: 何*光 | C25: 44180219********11 | D25: 兄弟 | E25: 无 | P25: 城镇中低收入家庭
A26: =MAX($A$4:A25)+1 -> 14 | B26: 廖*霞 | C26: 44022119********28 | D26: 申请人 | E26: =VLOOKUP(C:C,[1]初步公示表汇总!C26:P66,3,FALSE) -> 离退休 | F26: 广东省清远市炒沙新村 | G26: 1 | I26: 1267.47 | J26: 洲心街洲心社区 | K26: √ | O26: 1576****812 | P26: 城镇中低收入家庭
A27: =MAX($A$4:A26)+1 -> 15 | B27: 余*珍 | C27: 44182719********40 | D27: 申请人 | E27: =VLOOKUP(C:C,[1]初步公示表汇总!C27:P67,3,FALSE) -> 离退休 | F27: 广东省清远市小市路 | G27: 1 | I27: 1408.94 | J27: 洲心街光明社区 | N27: √ | O27: 1831****787 | P27: 城镇中低收入家庭
A28: =MAX($A$4:A27)+1 -> 16 | B28: 谢*梅 | C28: 44180219********26 | D28: 申请人 | E28: =VLOOKUP(C:C,[1]初步公示表汇总!C28:P68,3,FALSE) -> 清城区机关事务管理局 | F28: 清城区人民三路金世纪豪园 | G28: 4 | H28: 低保户、残疾户 | I28: 500 | J28: 洲心街振南社区 | M28: √ | O28: 1802****162 | P28: 城镇中低收入家庭
B29: 何* | C29: 44180219********12 | D29: 配偶 | E29: =VLOOKUP(C:C,[1]初步公示表汇总!C29:P69,3,FALSE) -> 病养 | O29: 1802****168 | P29: 城镇中低收入家庭
B30: 何*仪 | C30: 44180220********85 | D30: 女儿 | E30: =VLOOKUP(C:C,[1]初步公示表汇总!C30:P70,3,FALSE) -> 在读学生 | P30: 城镇中低收入家庭
B31: 何*昊 | C31: 44180220********94 | D31: 儿子 | E31: =VLOOKUP(C:C,[1]初步公示表汇总!C31:P71,3,FALSE) -> 在读学生 | P31: 城镇中低收入家庭
A32: =MAX($A$4:A31)+1 -> 17 | B32: 梁*伙 | C32: 44182319********16 | D32: 申请人 | E32: =VLOOKUP(C:C,[1]初步公示表汇总!C32:P72,3,FALSE) -> 清城区人民政府洲心街道办事处 | F32: 清远市清城区洲心街道广清大道92号云景中汇园 | G32: 4 | I32: 851.5 | J32: 洲心街学联社区 | M32: √ | O32: 1392****527 | P32: 城镇中低收入家庭
B33: 梁*明 | C33: 44022719********31 | D33: 父亲 | E33: =VLOOKUP(C:C,[1]初步公示表汇总!C33:P73,3,FALSE) -> 退养 | O33: 1587****181 | P33: 城镇中低收入家庭
B34: 陈*娣 | C34: 44022719********46 | D34: 母亲 | E34: =VLOOKUP(C:C,[1]初步公示表汇总!C34:P74,3,FALSE) -> 退养 | O34: 1343****507 | P34: 城镇中低收入家庭
B35: 梁*斐 | C35: 44182320********00 | D35: 女儿 | E35: =VLOOKUP(C:C,[1]初步公示表汇总!C35:P75,3,FALSE) -> 在读学生 | P35: 城镇中低收入家庭
A36: =MAX($A$4:A35)+1 -> 18 | B36: 梁*妹 | C36: 44182719********23 | D36: 申请人 | E36: =VLOOKUP(C:C,[1]初步公示表汇总!C36:P76,3,FALSE) -> 退休 | F36: 清新区太和镇东三街后一巷（借住） | G36: 1 | I36: 1024 | J36: 洲心街三角社区 | K36: √ | O36: 1362****127 | P36: 城镇中低收入家庭
A37: =MAX($A$4:A36)+1 -> 19 | B37: 龙*雄 | C37: 44182319********11 | D37: 申请人 | E37: =VLOOKUP(C:C,[1]初步公示表汇总!C37:P77,3,FALSE) -> 灵活就业 | F37: 清远市清城区洲心街道凤鸣社区白麻二巷 | G37: 4 | I37: 2000 | J37: 洲心街凤鸣社区 | M37: √ | O37: 1392****013 | P37: 城镇中低收入家庭
B38: 梁*水 | C38: 45213219********61 | D38: 配偶 | E38: =VLOOKUP(C:C,[1]初步公示表汇总!C38:P78,3,FALSE) -> 无 | O38: 1589****326 | P38: 城镇中低收入家庭
B39: 龙*厚 | C39: 44182320********57 | D39: 儿子 | E39: =VLOOKUP(C:C,[1]初步公示表汇总!C39:P79,3,FALSE) -> 在读学生 | P39: 城镇中低收入家庭
B40: 龙*伊 | C40: 44180220********44 | D40: 女儿 | E40: =VLOOKUP(C:C,[1]初步公示表汇总!C40:P80,3,FALSE) -> 学龄前儿童 | P40: 城镇中低收入家庭
...
