Workbook

Sheet 正确版公示表 
A1: 2026年清城区申请住房保障家庭情况公示表（第二批）
A2: 2026年第三季度，我中心审核通过清城区住房保障申请家庭共32户（47人），其中城镇中低收入住房困难家庭20户（35人）、在城镇稳定就业的外来务工人员6户（6人）、新就业无房职工6户（6人）。原保障家庭现增加家庭成员有2户（2人）。根据《关于公布2022年度清城区住房保障对象标准及条件的通告》的规定，该批次申请家庭符合“申请人家庭人均月收入不超过3000元/月，不拥有任何形式的自有住房和建房用地，或者自有住房人均建筑面积低于15平方米等条件”。现予公示，公示期自公示之日起10天，公示期内如有异议的，请直接向清城区住房保障中心反映或拨打0763-3665532。公示期满后，对符合条件的发放租赁补贴或实物配租公租房进行保障。
A3: 城镇中低收入住房困难家庭（20户）
A4: 序号 | B4: 姓名 | C4: 身份证号 | D4: 与申请 人关系 | E4: 工作单位 | F4: 家庭住址 | G4: 保障人口 | H4: 家庭性质 | I4: 人均收入(元) | J4: 所属街镇、社区 | K4: 保障方式 | O4: 联系电话 | P4: 备注
K5: 实物配租 | N5: 租赁补贴
K6: 一房 | L6: 两房 | M6: 三房
A7: =MAX($A$4:A6)+1 -> 1 | B7: 李*清 | C7: 44180219********16 | D7: 申请人 | E7: =VLOOKUP(C:C,[1]初步公示表汇总!C7:P47,3,FALSE) -> 灵活就业 | F7: 广东省清远市清城区东城街东岗一路 | G7: 4 | H7: 残疾户 | I7: 175 | J7: 东城街青云社区 | M7: √ | O7: 1597****530 | P7: 城镇中低收入家庭
B8: 李*源 | C8: 44180220********32 | D8: 儿子 | E8: =VLOOKUP(C:C,[1]初步公示表汇总!C8:P48,3,FALSE) -> 其他 | O8: 1475****252 | P8: 城镇中低收入家庭
B9: 骆*尹 | C9: 44180219********24 | D9: 配偶 | E9: =VLOOKUP(C:C,[1]初步公示表汇总!C9:P49,3,FALSE) -> 失业 | O9: 1475****252 | P9: 城镇中低收入家庭
B10: 李*池 | C10: 44180220********19 | D10: 儿子 | E10: =VLOOKUP(C:C,[1]初步公示表汇总!C10:P50,3,FALSE) -> 学龄前儿童 | O10: 1475****252 | P10: 城镇中低收入家庭
A11: =MAX($A$4:A10)+1 -> 2 | B11: 梅*伟 | C11: 44012719********13 | D11: 申请人 | E11: =VLOOKUP(C:C,[1]初步公示表汇总!C11:P51,3,FALSE) -> 灵活就业 | F11: 清远市清城区上濠基 | G11: 1 | I11: 2600 | J11: 凤城街龙船塘社区 | K11: √ | O11: 1317****863 | P11: 城镇中低收入家庭
A12: =MAX($A$4:A11)+1 -> 3 | B12: 劳*辉 | C12: 44012719********11 | D12: 申请人 | E12: =VLOOKUP(C:C,[1]初步公示表汇总!C12:P52,3,FALSE) -> 灵活就业 | F12: 广东省清远市清城区学宫街右一巷 | G12: 1 | I12: 3000 | J12: 凤城街东门社区 | K12: √ | O12: 1860****364 | P12: 城镇中低收入家庭
A13: =MAX($A$4:A12)+1 -> 4 | B13: 李*娥 | C13: 44180219********27 | D13: 申请人 | E13: =VLOOKUP(C:C,[1]初步公示表汇总!C13:P53,3,FALSE) -> 退休 | F13: 广东省清远市清城区方伯里 | G13: 1 | I13: 1827 | J13: 凤城街后街社区 | K13: √ | O13: 1361****103 | P13: 城镇中低收入家庭
A14: =MAX($A$4:A13)+1 -> 5 | B14: 范*卿 | C14: 44180219********27 | D14: 申请人 | E14: =VLOOKUP(C:C,[1]初步公示表汇总!C14:P54,3,FALSE) -> 退休 | F14: 广东省清远市清城区朝阳花苑 | G14: 1 | I14: 1417.94 | J14: 凤城街大观社区 | K14: √ | O14: 1392****817 | P14: 城镇中低收入家庭
A15: =MAX($A$4:A14)+1 -> 6 | B15: 蔡*兰 | C15: 44022719********28 | D15: 申请人 | E15: =VLOOKUP(C:C,[1]初步公示表汇总!C15:P55,3,FALSE) -> 退休 | F15: 广东省清远市清城区下廓派出所下壕基居委会 | G15: 1 | I15: 2900 | J15: 凤城街西湖社区 | K15: √ | O15: 1922****948 | P15: 城镇中低收入家庭
A16: =MAX($A$4:A15)+1 -> 7 | B16: 谭*洪 | C16: 44022319********55 | D16: 申请人 | E16: =VLOOKUP(C:C,[1]初步公示表汇总!C16:P56,3,FALSE) -> 灵活就业 | F16: 广东省清远市清城区派出所龙船塘居委会 | G16: 1 | I16: 2070 | J16: 凤城街龙船塘社区 | N16: √ | O16: 1871****840 | P16: 城镇中低收入家庭
A17: =MAX($A$4:A16)+1 -> 8 | B17: 梁*全 | C17: 44180219********33 | D17: 申请人 | E17: =VLOOKUP(C:C,[1]初步公示表汇总!C17:P57,3,FALSE) -> 灵活就业 | F17: 广东省清远市清城区仓后街左三巷 | G17: 1 | I17: 3000 | J17: 凤城街向群社区 | N17: √ | O17: 1816****690 | P17: 城镇中低收入家庭
A18: =MAX($A$4:A17)+1 -> 9 | B18: 赖*梅 | C18: 44182619********21 | D18: 申请人 | E18: =VLOOKUP(C:C,[1]初步公示表汇总!C18:P58,3,FALSE) -> 灵活就业 | F18: 清远市清城区刘围街 | G18: 2 | I18: 1500 | J18: 凤城街向群社区 | K18: √ | O18: 1341****445 | P18: 城镇中低收入家庭
B19: 陈*毅 | C19: 44012719********3X | D19: 配偶 | E19: =VLOOKUP(C:C,[1]初步公示表汇总!C19:P59,3,FALSE) -> 灵活就业 | O19: 1735****790 | P19: 城镇中低收入家庭
A20: =MAX($A$4:A19)+1 -> 10 | B20: 曹*妍 | C20: 44180220********20 | D20: 申请人 | E20: =VLOOKUP(C:C,[1]初步公示表汇总!C20:P60,3,FALSE) -> 无 | F20: 清远市清城区下廓一街石狮小区 | G20: 2 | I20: 0 | J20: 凤城街石狮社区 | L20: √ | O20: 1337****615 | P20: 城镇中低收入家庭
B21: 曹*洲 | C21: 44180219********11 | D21: 父亲 | E21: =VLOOKUP(C:C,[1]初步公示表汇总!C21:P61,3,FALSE) -> 无 | P21: 城镇中低收入家庭
A22: =MAX($A$4:A21)+1 -> 11 | B22: 黄*明 | C22: 44180219********32 | D22: 申请人 | E22: =VLOOKUP(C:C,[1]初步公示表汇总!C22:P62,3,FALSE) -> 无 | F22: 广东省清远市清城区拉尾岗 | G22: 1 | I22: 1200 | J22: 凤城街城西社区 | K22: √ | O22: 1538****970 | P22: 城镇中低收入家庭
A23: =MAX($A$4:A22)+1 -> 12 | B23: 刘*良 | C23: 43042419********17 | D23: 申请人 | E23: =VLOOKUP(C:C,[1]初步公示表汇总!C23:P63,3,FALSE) -> 失业 | F23: 广东省清远市清城区沿江路沿江路南九座 | G23: 1 | I23: 0 | J23: 凤城街沿江社区 | K23: √ | O23: 1758****396 | P23: 城镇中低收入家庭
A24: =MAX($A$4:A23)+1 -> 13 | B24: 何*辉 | C24: 44180219********14 | D24: 申请人 | E24: =VLOOKUP(C:C,[1]初步公示表汇总!C24:P64,3,FALSE) -> 灵活就业 | F24: 广东省清远市清城石狮小区6座 | G24: 2 | H24: 特困户、残疾户 | I24: 3000 | J24: 凤城街石狮社区 | L24: √ | O24: 1322****268 1982****728 | P24: 城镇中低收入家庭
B25: 何*光 | C25: 44180219********11 | D25: 兄弟 | E25: 无 | P25: 城镇中低收入家庭
A26: =MAX($A$4:A25)+1 -> 14 | B26: 廖*霞 | C26: 44022119********28 | D26: 申请人 | E26: =VLOOKUP(C:C,[1]初步公示表汇总!C26:P66,3,FALSE) -> 离退休 | F26: 广东省清远市炒沙新村 | G26: 1 | I26: 1267.47 | J26: 洲心街洲心社区 | K26: √ | O26: 1576****812 | P26: 城镇中低收入家庭
A27: =MAX($A$4:A26)+1 -> 15 | B27: 余*珍 | C27: 44182719********40 | D27: 申请人 | E27: =VLOOKUP(C:C,[1]初步公示表汇总!C27:P67,3,FALSE) -> 离退休 | F27: 广东省清远市小市路 | G27: 1 | I27: 1408.94 | J27: 洲心街光明社区 | N27: √ | O27: 1831****787 | P27: 城镇中低收入家庭
A28: =MAX($A$4:A27)+1 -> 16 | B28: 谢*梅 | C28: 44180219********26 | D28: 申请人 | E28: =VLOOKUP(C:C,[1]初步公示表汇总!C28:P68,3,FALSE) -> 清城区机关事务管理局 | F28: 清城区人民三路金世纪豪园 | G28: 4 | H28: 低保户、残疾户 | I28: 500 | J28: 洲心街振南社区 | M28: √ | O28: 1802****162 | P28: 城镇中低收入家庭
B29: 何* | C29: 44180219********12 | D29: 配偶 | E29: =VLOOKUP(C:C,[1]初步公示表汇总!C29:P69,3,FALSE) -> 病养 | O29: 1802****168 | P29: 城镇中低收入家庭
B30: 何*仪 | C30: 44180220********85 | D30: 女儿 | E30: =VLOOKUP(C:C,[1]初步公示表汇总!C30:P70,3,FALSE) -> 在读学生 | P30: 城镇中低收入家庭
B31: 何*昊 | C31: 44180220********94 | D31: 儿子 | E31: =VLOOKUP(C:C,[1]初步公示表汇总!C31:P71,3,FALSE) -> 在读学生 | P31: 城镇中低收入家庭
A32: =MAX($A$4:A31)+1 -> 17 | B32: 梁*伙 | C32: 44182319********16 | D32: 申请人 | E32: =VLOOKUP(C:C,[1]初步公示表汇总!C32:P72,3,FALSE) -> 清城区人民政府洲心街道办事处 | F32: 清远市清城区洲心街道广清大道92号云景中汇园 | G32: 4 | I32: 851.5 | J32: 洲心街学联社区 | M32: √ | O32: 1392****527 | P32: 城镇中低收入家庭
B33: 梁*明 | C33: 44022719********31 | D33: 父亲 | E33: =VLOOKUP(C:C,[1]初步公示表汇总!C33:P73,3,FALSE) -> 退养 | O33: 1587****181 | P33: 城镇中低收入家庭
B34: 陈*娣 | C34: 44022719********46 | D34: 母亲 | E34: =VLOOKUP(C:C,[1]初步公示表汇总!C34:P74,3,FALSE) -> 退养 | O34: 1343****507 | P34: 城镇中低收入家庭
B35: 梁*斐 | C35: 44182320********00 | D35: 女儿 | E35: =VLOOKUP(C:C,[1]初步公示表汇总!C35:P75,3,FALSE) -> 在读学生 | P35: 城镇中低收入家庭
A36: =MAX($A$4:A35)+1 -> 18 | B36: 梁*妹 | C36: 44182719********23 | D36: 申请人 | E36: =VLOOKUP(C:C,[1]初步公示表汇总!C36:P76,3,FALSE) -> 退休 | F36: 清新区太和镇东三街后一巷（借住） | G36: 1 | I36: 1024 | J36: 洲心街三角社区 | K36: √ | O36: 1362****127 | P36: 城镇中低收入家庭
A37: =MAX($A$4:A36)+1 -> 19 | B37: 龙*雄 | C37: 44182319********11 | D37: 申请人 | E37: =VLOOKUP(C:C,[1]初步公示表汇总!C37:P77,3,FALSE) -> 灵活就业 | F37: 清远市清城区洲心街道凤鸣社区白麻二巷 | G37: 4 | I37: 2000 | J37: 洲心街凤鸣社区 | M37: √ | O37: 1392****013 | P37: 城镇中低收入家庭
B38: 梁*水 | C38: 45213219********61 | D38: 配偶 | E38: =VLOOKUP(C:C,[1]初步公示表汇总!C38:P78,3,FALSE) -> 无 | O38: 1589****326 | P38: 城镇中低收入家庭
B39: 龙*厚 | C39: 44182320********57 | D39: 儿子 | E39: =VLOOKUP(C:C,[1]初步公示表汇总!C39:P79,3,FALSE) -> 在读学生 | P39: 城镇中低收入家庭
B40: 龙*伊 | C40: 44180220********44 | D40: 女儿 | E40: =VLOOKUP(C:C,[1]初步公示表汇总!C40:P80,3,FALSE) -> 学龄前儿童 | P40: 城镇中低收入家庭
A41: =MAX($A$4:A40)+1 -> 20 | B41: 林*培 | C41: 44012719********19 | D41: 申请人 | E41: =VLOOKUP(C:C,[1]初步公示表汇总!C41:P81,3,FALSE) -> 无 | F41: 清城区源潭镇中源街跃进路左一巷 | G41: 1 | H41: 低保户 | I41: 913 | J41: 源潭镇源潭社区 | N41: √ | O41: 1341****113 | P41: 城镇中低收入家庭
A42: 在城镇稳定就业的外来务工人员(6户）
A43: 序号 | B43: 姓名 | C43: 身份证号 | D43: 与申请 人关系 | E43: 工作单位 | F43: 家庭住址 | G43: 保障人口 | H43: 家庭性质 | I43: 人均收入(元) | J43: 所属街镇、社区 | K43: 保障方式 | O43: 联系电话 | P43: 备注
K44: 实物配租 | N44: 租赁补贴
K45: 一房 | L45: 两房 | M45: 三房
A46: =MAX($A$4:A45)+1 -> 21 | B46: 罗*怡 | C46: 44182619********64 | D46: 申请人 | E46: =VLOOKUP(C:C,[1]初步公示表汇总!C52:P58,3,FALSE) -> 中共清远市清城区委办公室 | F46: 广东省清远市清城区东城街金湖社区阳光嘉园 | G46: 1 | I46: 不限收入 | J46: 东城街金湖社区 | N46: √ | O46: 1536****674 | P46: 外来务工人员
A47: =MAX($A$4:A46)+1 -> 22 | B47: 张*玲 | C47: 44018319********48 | D47: 申请人 | E47: =VLOOKUP(C:C,[1]初步公示表汇总!C53:P59,3,FALSE) -> 清远市清城价格认证中心 | F47: 清城区东城街道金湖社区锦江豪苑 | G47: 1 | I47: 不限收入 | J47: 东城街金湖社区 | N47: √ | O47: 1364****329 | P47: 外来务工人员
A48: =MAX($A$4:A47)+1 -> 23 | B48: 梁*铟 | C48: 44182320********48 | D48: 申请人 | E48: =VLOOKUP(C:C,[1]初步公示表汇总!C54:P60,3,FALSE) -> 清远市德晟投资集团有限公司 | F48: 恒福上域国际 | G48: 1 | I48: 不限收入 | J48: 洲心街维港社区 | N48: √ | O48: 1812****219 | P48: 外来务工人员
A49: =MAX($A$4:A48)+1 -> 24 | B49: 江*彬 | C49: 44188119********25 | D49: 申请人 | E49: =VLOOKUP(C:C,[1]初步公示表汇总!C55:P61,3,FALSE) -> 清远市清城区市场监督管理局 | F49: 清城区西13号区广清大道30号塘湾名轩 | G49: 1 | I49: 不限收入 | J49: 洲心街江南社区 | N49: √ | O49: 1832****321 | P49: 外来务工人员
A50: =MAX($A$4:A49)+1 -> 25 | B50: 翁*琼 | C50: 44150219********29 | D50: 申请人 | E50: =VLOOKUP(C:C,[1]初步公示表汇总!C56:P62,3,FALSE) -> 清远市国源南粤人才服务有限公司 | F50: 清远市清城区人民一路 | G50: 1 | I50: 不限收入 | J50: 洲心街维港社区 | N50: √ | O50: 1501****684 | P50: 外来务工人员
A51: =MAX($A$4:A50)+1 -> 26 | B51: 钟* | C51: 43052319********26 | D51: 申请人 | E51: =VLOOKUP(C:C,[1]初步公示表汇总!C57:P63,3,FALSE) -> 广州医科大学附属清远医院 | F51: 清远市清城区万科华府 | G51: 1 | I51: 不限收入 | J51: 洲心街启明社区 | N51: √ | O51: 1307****606 | P51: 外来务工人员
A52: 新就业无房职工(6户）
A53: 序号 | B53: 姓名 | C53: 身份证号 | D53: 与申请 人关系 | E53: 工作单位 | F53: 家庭住址 | G53: 保障人口 | H53: 家庭性质 | I53: 人均收入(元) | J53: 所属街镇、社区 | K53: 保障方式 | O53: 联系电话 | P53: 备注
K54: 实物配租 | N54: 租赁补贴
K55: 一房 | L55: 两房 | M55: 三房
A56: =MAX($A$4:A51)+1 -> 27 | B56: 陈*滨 | C56: 44058220********18 | D56: 申请人 | E56: =VLOOKUP(C56:C61,[1]初步公示表汇总!C63:P69,3,FALSE) -> 中共清远市清城区委办公室 | F56: 广东省清远市清城区凤城街花厅一街 | G56: 1 | I56: 不限收入 | J56: 东城街金湖社区 | N56: √ | O56: 1372****569 | P56: 新就业无房职工
A57: =MAX($A$4:A56)+1 -> 28 | B57: 何*娟 | C57: 44182120********27 | D57: 申请人 | E57: =VLOOKUP(C57:C62,[1]初步公示表汇总!C64:P70,3,FALSE) -> 中共清远市清城区委办公室 | F57: 广东省清远市清城区东城街敏捷东城大道8号铂顿国际公寓 | G57: 1 | I57: 不限收入 | J57: 东城街金湖社区 | N57: √ | O57: 1392****237 | P57: 新就业无房职工
A58: =MAX($A$4:A57)+1 -> 29 | B58: 黄* | C58: 44188220********23 | D58: 申请人 | E58: =VLOOKUP(C58:C63,[1]初步公示表汇总!C65:P71,3,FALSE) -> 清远市清城区残疾人联合会 | F58: 清远市清城区凤城街道翠湖花园 | G58: 1 | I58: 不限收入 | J58: 凤城街翠湖社区 | N58: √ | O58: 1470****993 | P58: 新就业无房职工
A59: =MAX($A$4:A58)+1 -> 30 | B59: 严* | C59: 36073120********12 | D59: 申请人 | E59: =VLOOKUP(C59:C64,[1]初步公示表汇总!C66:P72,3,FALSE) -> 广东清远高新技术产业开发区管理委会员党政办公室 | F59: 碧桂园山湖城熙岸三街 | G59: 1 | I59: 不限收入 | J59: 横荷街百加社区 | N59: √ | O59: 1302****818 | P59: 新就业无房职工
A60: =MAX($A$4:A59)+1 -> 31 | B60: 刘*琪 | C60: 36050220********43 | D60: 申请人 | E60: =VLOOKUP(C60:C65,[1]初步公示表汇总!C67:P73,3,FALSE) -> 清远市住房和城乡建设局 | F60: 清远市清城区滨江路8号之一 | G60: 1 | I60: 不限收入 | J60: 洲心街江南社区 | N60: √ | O60: 1390****820 | P60: 新就业无房职工
A61: =MAX($A$4:A60)+1 -> 32 | B61: 黎*莹 | C61: 45042219********28 | D61: 申请人 | E61: =VLOOKUP(C61:C66,[1]初步公示表汇总!C68:P74,3,FALSE) -> 清远市清城区人民政府洲心街道办事处 | F61: 清远市清城区洲心街道22号金逸雅居 | G61: 1 | I61: 不限收入 | J61: 洲心街洲心社区 | N61: √ | O61: 1382****515 | P61: 新就业无房职工
A62: 以下人员申请人已保障，现增加家庭成员
A63: 序号 | B63: 姓名 | C63: 身份证号 | D63: 与申请 人关系 | E63: 工作 单位 | F63: 家庭住址 | G63: 保障人口 | H63: 家庭性质 | I63: 人均收入(元) | J63: 所属街镇 | K63: 保障方式 | O63: 联系电话 | P63: 备注
K64: 实物配租 | N64: 租赁补贴
K65: 一房 | L65: 两房 | M65: 三房
A66: 1 | B66: 唐*辉 | C66: 43052319********19 | D66: 女婿 | E66: 灵活就业 | F66: 和平小区B1栋 | G66: 3人变4人 | I66: 1000 | J66: 凤城街天湖社区 | L66: √ | O66: 1579****419 | P66: 原申请人是赵*兴 （城镇中低收入家庭）
A67: 2 | B67: 李*妹 | C67: 44182719********40 | D67: 配偶 | E67: 无 | F67: 和平小区B3栋 | G67: 2人变3人 | I67: 100 | J67: 飞来峡镇高田社区 | L67: √ | O67: 1343****286 | P67: 原申请人是谢*锐 （城镇中低收入家庭）
N70: 清远市清城区住房保障中心
N71: 46295
